BEGIN:VCALENDAR
VERSION:2.0
PRODID:-//Galen Catholic College - ECPv5.0.0.2//NONSGML v1.0//EN
CALSCALE:GREGORIAN
METHOD:PUBLISH
X-WR-CALNAME:Galen Catholic College
X-ORIGINAL-URL:https://www.galen.vic.edu.au
X-WR-CALDESC:Events for Galen Catholic College
BEGIN:VTIMEZONE
TZID:Australia/Melbourne
BEGIN:STANDARD
TZOFFSETFROM:+1100
TZOFFSETTO:+1000
TZNAME:AEST
DTSTART:20200404T160000
END:STANDARD
BEGIN:DAYLIGHT
TZOFFSETFROM:+1000
TZOFFSETTO:+1100
TZNAME:AEDT
DTSTART:20201003T160000
END:DAYLIGHT
END:VTIMEZONE
BEGIN:VEVENT
DTSTART;VALUE=DATE:20200128
DTEND;VALUE=DATE:20200129
DTSTAMP:20200229T032409
CREATED:20191017T002547Z
LAST-MODIFIED:20191017T002547Z
UID:8959-1580169600-1580255999@www.galen.vic.edu.au
SUMMARY:Staff Return
DESCRIPTION:
URL:https://www.galen.vic.edu.au/event/staff-return-3/
END:VEVENT
BEGIN:VEVENT
DTSTART;VALUE=DATE:20200129
DTEND;VALUE=DATE:20200130
DTSTAMP:20200229T032409
CREATED:20191017T002636Z
LAST-MODIFIED:20191017T002636Z
UID:8961-1580256000-1580342399@www.galen.vic.edu.au
SUMMARY:Staff Preparation Day
DESCRIPTION:
URL:https://www.galen.vic.edu.au/event/staff-preparation-day/
END:VEVENT
BEGIN:VEVENT
DTSTART;VALUE=DATE:20200130
DTEND;VALUE=DATE:20200131
DTSTAMP:20200229T032409
CREATED:20191017T002735Z
LAST-MODIFIED:20191017T002735Z
UID:8963-1580342400-1580428799@www.galen.vic.edu.au
SUMMARY:All Students Begin Term 1
DESCRIPTION:
URL:https://www.galen.vic.edu.au/event/all-students-begin-term-1/
END:VEVENT
BEGIN:VEVENT
DTSTART;TZID=Australia/Melbourne:20200204T173000
DTEND;TZID=Australia/Melbourne:20200204T173000
DTSTAMP:20200229T032409
CREATED:20191017T002838Z
LAST-MODIFIED:20191017T002838Z
UID:8965-1580837400-1580837400@www.galen.vic.edu.au
SUMMARY:Year 7 Laptop Inductions
DESCRIPTION:
URL:https://www.galen.vic.edu.au/event/year-7-laptop-inductions/
END:VEVENT
BEGIN:VEVENT
DTSTART;VALUE=DATE:20200205
DTEND;VALUE=DATE:20200206
DTSTAMP:20200229T032409
CREATED:20191017T002931Z
LAST-MODIFIED:20191017T002931Z
UID:8967-1580860800-1580947199@www.galen.vic.edu.au
SUMMARY:Year 12 Jumper Presentation Evening
DESCRIPTION:
URL:https://www.galen.vic.edu.au/event/year-12-jumper-presentation-evening-2/
END:VEVENT
BEGIN:VEVENT
DTSTART;VALUE=DATE:20200207
DTEND;VALUE=DATE:20200208
DTSTAMP:20200229T032409
CREATED:20200206T050609Z
LAST-MODIFIED:20200206T050609Z
UID:9142-1581033600-1581119999@www.galen.vic.edu.au
SUMMARY:Student Leadership Sandhurst Network Day
DESCRIPTION:
URL:https://www.galen.vic.edu.au/event/student-leadership-sandhurst-network-day/
END:VEVENT
BEGIN:VEVENT
DTSTART;VALUE=DATE:20200210
DTEND;VALUE=DATE:20200213
DTSTAMP:20200229T032409
CREATED:20200206T050703Z
LAST-MODIFIED:20200206T050703Z
UID:9144-1581292800-1581551999@www.galen.vic.edu.au
SUMMARY:Year 12 Retreat Howmans Gap/Lake Hume
DESCRIPTION:
URL:https://www.galen.vic.edu.au/event/year-12-retreat-howmans-gap-lake-hume/
END:VEVENT
BEGIN:VEVENT
DTSTART;TZID=Australia/Melbourne:20200212T154500
DTEND;TZID=Australia/Melbourne:20200212T171500
DTSTAMP:20200229T032409
CREATED:20200206T050806Z
LAST-MODIFIED:20200206T050806Z
UID:9146-1581522300-1581527700@www.galen.vic.edu.au
SUMMARY:Year 7 Open Afternoon
DESCRIPTION:
URL:https://www.galen.vic.edu.au/event/year-7-open-afternoon-4/
END:VEVENT
BEGIN:VEVENT
DTSTART;VALUE=DATE:20200213
DTEND;VALUE=DATE:20200214
DTSTAMP:20200229T032409
CREATED:20200206T051124Z
LAST-MODIFIED:20200206T051124Z
UID:9148-1581552000-1581638399@www.galen.vic.edu.au
SUMMARY:School Photos
DESCRIPTION:
URL:https://www.galen.vic.edu.au/event/school-photos-5/
END:VEVENT
BEGIN:VEVENT
DTSTART;VALUE=DATE:20200217
DTEND;VALUE=DATE:20200218
DTSTAMP:20200229T032409
CREATED:20200211T001515Z
LAST-MODIFIED:20200211T001515Z
UID:9160-1581897600-1581983999@www.galen.vic.edu.au
SUMMARY:VET Sport & Rec Unit 3 Aquazone Trip
DESCRIPTION:
URL:https://www.galen.vic.edu.au/event/vet-sport-rec-unit-3-aquazone-trip/
END:VEVENT
BEGIN:VEVENT
DTSTART;VALUE=DATE:20200217
DTEND;VALUE=DATE:20200218
DTSTAMP:20200229T032409
CREATED:20200211T002242Z
LAST-MODIFIED:20200211T002242Z
UID:9162-1581897600-1581983999@www.galen.vic.edu.au
SUMMARY:Year 10 Outdoor Ed Windsurfing
DESCRIPTION:
URL:https://www.galen.vic.edu.au/event/year-10-outdoor-ed-windsurfing/
END:VEVENT
BEGIN:VEVENT
DTSTART;VALUE=DATE:20200218
DTEND;VALUE=DATE:20200219
DTSTAMP:20200229T032409
CREATED:20200211T002444Z
LAST-MODIFIED:20200211T002444Z
UID:9164-1581984000-1582070399@www.galen.vic.edu.au
SUMMARY:VCAL/VET Barista Course
DESCRIPTION:
URL:https://www.galen.vic.edu.au/event/vcal-vet-barista-course/
END:VEVENT
BEGIN:VEVENT
DTSTART;VALUE=DATE:20200218
DTEND;VALUE=DATE:20200219
DTSTAMP:20200229T032409
CREATED:20200211T002526Z
LAST-MODIFIED:20200211T002526Z
UID:9166-1581984000-1582070399@www.galen.vic.edu.au
SUMMARY:Upper Hume Cricket - Senior Boys
DESCRIPTION:
URL:https://www.galen.vic.edu.au/event/upper-hume-cricket-senior-boys/
END:VEVENT
BEGIN:VEVENT
DTSTART;VALUE=DATE:20200218
DTEND;VALUE=DATE:20200219
DTSTAMP:20200229T032409
CREATED:20200211T002658Z
LAST-MODIFIED:20200211T002658Z
UID:9170-1581984000-1582070399@www.galen.vic.edu.au
SUMMARY:Year 10 Outdoor Ed Windsurfing
DESCRIPTION:
URL:https://www.galen.vic.edu.au/event/year-10-outdoor-ed-windsurfing-2/
END:VEVENT
BEGIN:VEVENT
DTSTART;VALUE=DATE:20200219
DTEND;VALUE=DATE:20200220
DTSTAMP:20200229T032409
CREATED:20200211T002605Z
LAST-MODIFIED:20200211T002605Z
UID:9168-1582070400-1582156799@www.galen.vic.edu.au
SUMMARY:Swimming Carnival
DESCRIPTION:
URL:https://www.galen.vic.edu.au/event/swimming-carnival/
END:VEVENT
BEGIN:VEVENT
DTSTART;VALUE=DATE:20200220
DTEND;VALUE=DATE:20200222
DTSTAMP:20200229T032409
CREATED:20200211T002804Z
LAST-MODIFIED:20200211T002804Z
UID:9172-1582156800-1582329599@www.galen.vic.edu.au
SUMMARY:9.1 ReWild Overnight Bushwalk
DESCRIPTION:
URL:https://www.galen.vic.edu.au/event/9-1-rewild-overnight-bushwalk/
END:VEVENT
BEGIN:VEVENT
DTSTART;VALUE=DATE:20200220
DTEND;VALUE=DATE:20200221
DTSTAMP:20200229T032409
CREATED:20200211T002848Z
LAST-MODIFIED:20200211T002848Z
UID:9174-1582156800-1582243199@www.galen.vic.edu.au
SUMMARY:Beechworth Sustainability Excursion 9.7 & 9.8
DESCRIPTION:
URL:https://www.galen.vic.edu.au/event/beechworth-sustainability-excursion-9-7-9-8/
END:VEVENT
BEGIN:VEVENT
DTSTART;VALUE=DATE:20200224
DTEND;VALUE=DATE:20200227
DTSTAMP:20200229T032409
CREATED:20200211T002939Z
LAST-MODIFIED:20200211T002939Z
UID:9176-1582502400-1582761599@www.galen.vic.edu.au
SUMMARY:Year 12 OED Phillip Island Surf Camp
DESCRIPTION:
URL:https://www.galen.vic.edu.au/event/year-12-oed-phillip-island-surf-camp/
END:VEVENT
BEGIN:VEVENT
DTSTART;VALUE=DATE:20200225
DTEND;VALUE=DATE:20200226
DTSTAMP:20200229T032409
CREATED:20200211T003008Z
LAST-MODIFIED:20200211T003008Z
UID:9178-1582588800-1582675199@www.galen.vic.edu.au
SUMMARY:Year 8 Integrated Studies Winton Wetlands excursion (8.3 & 8.4)
DESCRIPTION:
URL:https://www.galen.vic.edu.au/event/year-8-integrated-studies-winton-wetlands-excursion-8-3-8-4/
END:VEVENT
BEGIN:VEVENT
DTSTART;VALUE=DATE:20200226
DTEND;VALUE=DATE:20200227
DTSTAMP:20200229T032409
CREATED:20200211T003506Z
LAST-MODIFIED:20200211T003506Z
UID:9180-1582675200-1582761599@www.galen.vic.edu.au
SUMMARY:Ash Wednesday
DESCRIPTION:
URL:https://www.galen.vic.edu.au/event/ash-wednesday-5/
END:VEVENT
BEGIN:VEVENT
DTSTART;VALUE=DATE:20200227
DTEND;VALUE=DATE:20200228
DTSTAMP:20200229T032409
CREATED:20200211T003538Z
LAST-MODIFIED:20200211T003538Z
UID:9182-1582761600-1582847999@www.galen.vic.edu.au
SUMMARY:Upper Hume Swimming
DESCRIPTION:
URL:https://www.galen.vic.edu.au/event/upper-hume-swimming-2/
END:VEVENT
END:VCALENDAR